Package: BiocPkgTools Version: 1.22.0 Command: E:\biocbuild\bbs-3.19-bioc\R\bin\R.exe CMD INSTALL BiocPkgTools StartedAt: 2024-10-16 16:43:41 -0400 (Wed, 16 Oct 2024) EndedAt: 2024-10-16 16:44:21 -0400 (Wed, 16 Oct 2024) EllapsedTime: 39.5 seconds RetCode: 0 Status: OK