Package: BiocPkgTools Version: 1.22.0 Command: chmod a+r BiocPkgTools -R && E:\biocbuild\bbs-3.19-bioc\R\bin\R.exe CMD build --keep-empty-dirs --no-resave-data BiocPkgTools StartedAt: 2024-10-16 17:50:16 -0400 (Wed, 16 Oct 2024) EndedAt: 2024-10-16 17:56:36 -0400 (Wed, 16 Oct 2024) EllapsedTime: 379.8 seconds RetCode: 0 Status: OK PackageFile: BiocPkgTools_1.22.0.tar.gz PackageFileSize: 1.442 MiB