Package: BiocPkgTools Version: 1.22.0 Command: chmod a+r BiocPkgTools -R && F:\biocbuild\bbs-3.19-bioc\R\bin\R.exe CMD build --keep-empty-dirs --no-resave-data BiocPkgTools StartedAt: 2024-06-26 17:24:34 -0400 (Wed, 26 Jun 2024) EndedAt: 2024-06-26 17:34:30 -0400 (Wed, 26 Jun 2024) EllapsedTime: 595.2 seconds RetCode: 0 Status: OK PackageFile: BiocPkgTools_1.22.0.tar.gz PackageFileSize: 1.441 MiB