Package: BiocPkgTools Version: 1.22.0 Command: rm -rf BiocPkgTools.buildbin-libdir && mkdir BiocPkgTools.buildbin-libdir && F:\biocbuild\bbs-3.19-bioc\R\bin\R.exe CMD INSTALL --build --library=BiocPkgTools.buildbin-libdir BiocPkgTools_1.22.0.tar.gz StartedAt: 2024-06-27 07:53:49 -0400 (Thu, 27 Jun 2024) EndedAt: 2024-06-27 07:54:22 -0400 (Thu, 27 Jun 2024) EllapsedTime: 32.9 seconds RetCode: 0 Status: OK PackageFile: BiocPkgTools_1.22.0.zip PackageFileSize: 1.624 MiB