Package: BiocPkgTools Version: 1.22.0 Command: /home/biocbuild/bbs-3.19-bioc/R/bin/R CMD build --keep-empty-dirs --no-resave-data BiocPkgTools StartedAt: 2024-10-16 17:12:54 -0400 (Wed, 16 Oct 2024) EndedAt: 2024-10-16 17:14:40 -0400 (Wed, 16 Oct 2024) EllapsedTime: 106.2 seconds RetCode: 0 Status: OK PackageFile: BiocPkgTools_1.22.0.tar.gz PackageFileSize: 1.442 MiB