Package: BiocPkgTools Version: 1.22.0 Command: rm -rf BiocPkgTools.buildbin-libdir && mkdir BiocPkgTools.buildbin-libdir && /Users/biocbuild/BBS/utils/build-universal.sh BiocPkgTools_1.22.0.tar.gz /Library/Frameworks/R.framework/Resources/bin/R BiocPkgTools.buildbin-libdir StartedAt: 2024-06-11 10:19:17 -0400 (Tue, 11 Jun 2024) EndedAt: 2024-06-11 10:19:42 -0400 (Tue, 11 Jun 2024) EllapsedTime: 25.5 seconds RetCode: 0 Status: OK PackageFile: BiocPkgTools_1.22.0.tgz PackageFileSize: 1.615 MiB