Package: BiocPkgTools Version: 1.22.0 Command: /Library/Frameworks/R.framework/Resources/bin/R CMD INSTALL BiocPkgTools StartedAt: 2024-10-16 17:18:04 -0400 (Wed, 16 Oct 2024) EndedAt: 2024-10-16 17:18:16 -0400 (Wed, 16 Oct 2024) EllapsedTime: 12.4 seconds RetCode: 0 Status: OK