Package: BiocParallel Version: 1.38.0 Command: chmod a+r BiocParallel -R && E:\biocbuild\bbs-3.19-bioc\R\bin\R.exe CMD build --keep-empty-dirs --no-resave-data BiocParallel StartedAt: 2024-10-16 17:50:12 -0400 (Wed, 16 Oct 2024) EndedAt: 2024-10-16 17:53:51 -0400 (Wed, 16 Oct 2024) EllapsedTime: 218.7 seconds RetCode: 0 Status: OK PackageFile: BiocParallel_1.38.0.tar.gz PackageFileSize: 976.5 KiB