Package: BiocParallel Version: 1.38.0 Command: /home/biocbuild/bbs-3.19-bioc/R/bin/R CMD build --keep-empty-dirs --no-resave-data BiocParallel StartedAt: 2024-10-16 17:12:48 -0400 (Wed, 16 Oct 2024) EndedAt: 2024-10-16 17:14:37 -0400 (Wed, 16 Oct 2024) EllapsedTime: 109.2 seconds RetCode: 0 Status: OK PackageFile: BiocParallel_1.38.0.tar.gz PackageFileSize: 973.9 KiB