Package: BiocParallel Version: 1.38.0 Command: /Library/Frameworks/R.framework/Resources/bin/R CMD check --install=check:BiocParallel.install-out.txt --library=/Library/Frameworks/R.framework/Resources/library --no-vignettes --timings BiocParallel_1.38.0.tar.gz StartedAt: 2024-05-26 19:38:46 -0400 (Sun, 26 May 2024) EndedAt: 2024-05-26 19:50:22 -0400 (Sun, 26 May 2024) EllapsedTime: 695.5 seconds RetCode: 0 Status: OK CheckDir: BiocParallel.Rcheck Warnings: 0