Package: BiocParallel Version: 1.38.0 Command: rm -rf BiocParallel.buildbin-libdir && mkdir BiocParallel.buildbin-libdir && /Users/biocbuild/BBS/utils/build-universal.sh BiocParallel_1.38.0.tar.gz /Library/Frameworks/R.framework/Resources/bin/R BiocParallel.buildbin-libdir StartedAt: 2024-05-27 01:25:43 -0400 (Mon, 27 May 2024) EndedAt: 2024-05-27 01:26:18 -0400 (Mon, 27 May 2024) EllapsedTime: 35.7 seconds RetCode: 0 Status: OK PackageFile: BiocParallel_1.38.0.tgz PackageFileSize: 1.554 MiB