Package: BiocParallel Version: 1.38.0 Command: /Library/Frameworks/R.framework/Resources/bin/R CMD INSTALL BiocParallel StartedAt: 2024-10-16 16:20:28 -0400 (Wed, 16 Oct 2024) EndedAt: 2024-10-16 16:20:48 -0400 (Wed, 16 Oct 2024) EllapsedTime: 20.2 seconds RetCode: 0 Status: OK