Package: BiocParallel Version: 1.38.0 Command: rm -rf BiocParallel.buildbin-libdir && mkdir BiocParallel.buildbin-libdir && /Users/biocbuild/BBS/utils/build-universal.sh BiocParallel_1.38.0.tar.gz /Library/Frameworks/R.framework/Resources/bin/R BiocParallel.buildbin-libdir StartedAt: 2024-10-18 17:30:10 -0400 (Fri, 18 Oct 2024) EndedAt: 2024-10-18 17:30:43 -0400 (Fri, 18 Oct 2024) EllapsedTime: 33.1 seconds RetCode: 0 Status: OK PackageFile: BiocParallel_1.38.0.tgz PackageFileSize: 1.54 MiB