Package: BiocOncoTK Version: 1.24.0 Command: E:\biocbuild\bbs-3.19-bioc\R\bin\R.exe CMD INSTALL BiocOncoTK StartedAt: 2024-10-16 17:18:20 -0400 (Wed, 16 Oct 2024) EndedAt: 2024-10-16 17:19:52 -0400 (Wed, 16 Oct 2024) EllapsedTime: 92.0 seconds RetCode: 0 Status: OK