Package: BiocOncoTK Version: 1.24.0 Command: rm -rf BiocOncoTK.buildbin-libdir && mkdir BiocOncoTK.buildbin-libdir && F:\biocbuild\bbs-3.19-bioc\R\bin\R.exe CMD INSTALL --build --library=BiocOncoTK.buildbin-libdir BiocOncoTK_1.24.0.tar.gz StartedAt: 2024-07-08 07:00:52 -0400 (Mon, 08 Jul 2024) EndedAt: 2024-07-08 07:02:05 -0400 (Mon, 08 Jul 2024) EllapsedTime: 73.1 seconds RetCode: 0 Status: OK PackageFile: BiocOncoTK_1.24.0.zip PackageFileSize: 7.887 MiB