Package: BiocOncoTK Version: 1.24.0 Command: F:\biocbuild\bbs-3.19-bioc\R\bin\R.exe CMD INSTALL BiocOncoTK StartedAt: 2024-06-26 16:49:29 -0400 (Wed, 26 Jun 2024) EndedAt: 2024-06-26 16:50:44 -0400 (Wed, 26 Jun 2024) EllapsedTime: 74.6 seconds RetCode: 0 Status: OK