Package: BiocOncoTK Version: 1.24.0 Command: chmod a+r BiocOncoTK -R && F:\biocbuild\bbs-3.19-bioc\R\bin\R.exe CMD build --keep-empty-dirs --no-resave-data BiocOncoTK StartedAt: 2024-06-26 17:24:22 -0400 (Wed, 26 Jun 2024) EndedAt: 2024-06-26 17:27:04 -0400 (Wed, 26 Jun 2024) EllapsedTime: 162.2 seconds RetCode: 0 Status: OK PackageFile: BiocOncoTK_1.24.0.tar.gz PackageFileSize: 8.819 MiB