Package: BiocOncoTK Version: 1.24.0 Command: rm -rf BiocOncoTK.buildbin-libdir && mkdir BiocOncoTK.buildbin-libdir && F:\biocbuild\bbs-3.19-bioc\R\bin\R.exe CMD INSTALL --build --library=BiocOncoTK.buildbin-libdir BiocOncoTK_1.24.0.tar.gz StartedAt: 2024-06-27 07:53:43 -0400 (Thu, 27 Jun 2024) EndedAt: 2024-06-27 07:54:57 -0400 (Thu, 27 Jun 2024) EllapsedTime: 74.3 seconds RetCode: 0 Status: OK PackageFile: BiocOncoTK_1.24.0.zip PackageFileSize: 7.872 MiB