Package: BiocOncoTK Version: 1.24.0 Command: /home/biocbuild/bbs-3.19-bioc/R/bin/R CMD INSTALL BiocOncoTK StartedAt: 2024-10-16 16:43:45 -0400 (Wed, 16 Oct 2024) EndedAt: 2024-10-16 16:44:35 -0400 (Wed, 16 Oct 2024) EllapsedTime: 49.6 seconds RetCode: 0 Status: OK