Package: BiocOncoTK Version: 1.24.0 Command: /home/biocbuild/bbs-3.19-bioc/R/bin/R CMD check --install=check:BiocOncoTK.install-out.txt --library=/home/biocbuild/bbs-3.19-bioc/R/site-library --timings BiocOncoTK_1.24.0.tar.gz StartedAt: 2024-10-16 22:03:49 -0400 (Wed, 16 Oct 2024) EndedAt: 2024-10-16 22:11:40 -0400 (Wed, 16 Oct 2024) EllapsedTime: 471.0 seconds RetCode: 0 Status: OK CheckDir: BiocOncoTK.Rcheck Warnings: 0