Package: BiocOncoTK Version: 1.24.0 Command: rm -rf BiocOncoTK.buildbin-libdir && mkdir BiocOncoTK.buildbin-libdir && /Users/biocbuild/BBS/utils/build-universal.sh BiocOncoTK_1.24.0.tar.gz /Library/Frameworks/R.framework/Resources/bin/R BiocOncoTK.buildbin-libdir StartedAt: 2024-10-17 15:42:57 -0400 (Thu, 17 Oct 2024) EndedAt: 2024-10-17 15:44:56 -0400 (Thu, 17 Oct 2024) EllapsedTime: 118.8 seconds RetCode: 0 Status: OK PackageFile: BiocOncoTK_1.24.0.tgz PackageFileSize: 8.794 MiB