Package: BiocOncoTK Version: 1.24.0 Command: /home/biocbuild/R/R-beta-2024-04-15_r86425/bin/R CMD build --keep-empty-dirs --no-resave-data BiocOncoTK StartedAt: 2024-05-08 22:44:20 -0000 (Wed, 08 May 2024) EndedAt: 2024-05-08 22:46:30 -0000 (Wed, 08 May 2024) EllapsedTime: 130.2 seconds RetCode: 0 Status: OK PackageFile: BiocOncoTK_1.24.0.tar.gz PackageFileSize: 9.254 MiB