Package: BiocOncoTK Version: 1.24.0 Command: rm -rf BiocOncoTK.buildbin-libdir && mkdir BiocOncoTK.buildbin-libdir && /Users/biocbuild/BBS/utils/build-universal.sh BiocOncoTK_1.24.0.tar.gz /Library/Frameworks/R.framework/Resources/bin/R BiocOncoTK.buildbin-libdir StartedAt: 2024-10-18 17:29:59 -0400 (Fri, 18 Oct 2024) EndedAt: 2024-10-18 17:31:20 -0400 (Fri, 18 Oct 2024) EllapsedTime: 80.6 seconds RetCode: 0 Status: OK PackageFile: BiocOncoTK_1.24.0.tgz PackageFileSize: 8.793 MiB