Package: BiocNeighbors Version: 1.22.0 Command: E:\biocbuild\bbs-3.19-bioc\R\bin\R.exe CMD INSTALL BiocNeighbors StartedAt: 2024-10-16 16:14:18 -0400 (Wed, 16 Oct 2024) EndedAt: 2024-10-16 16:16:36 -0400 (Wed, 16 Oct 2024) EllapsedTime: 138.4 seconds RetCode: 0 Status: OK