Package: BiocNeighbors Version: 1.22.0 Command: E:\biocbuild\bbs-3.19-bioc\R\bin\R.exe CMD check --no-multiarch --install=check:BiocNeighbors.install-out.txt --library=E:\biocbuild\bbs-3.19-bioc\R\library --no-vignettes --timings BiocNeighbors_1.22.0.tar.gz StartedAt: 2024-10-16 23:14:27 -0400 (Wed, 16 Oct 2024) EndedAt: 2024-10-16 23:22:28 -0400 (Wed, 16 Oct 2024) EllapsedTime: 480.5 seconds RetCode: 0 Status: WARNINGS CheckDir: BiocNeighbors.Rcheck Warnings: 2