Package: BiocNeighbors Version: 1.22.0 Command: rm -rf BiocNeighbors.buildbin-libdir && mkdir BiocNeighbors.buildbin-libdir && E:\biocbuild\bbs-3.19-bioc\R\bin\R.exe CMD INSTALL --build --library=BiocNeighbors.buildbin-libdir BiocNeighbors_1.22.0.tar.gz StartedAt: 2024-10-17 07:24:35 -0400 (Thu, 17 Oct 2024) EndedAt: 2024-10-17 07:28:40 -0400 (Thu, 17 Oct 2024) EllapsedTime: 245.2 seconds RetCode: 0 Status: OK PackageFile: BiocNeighbors_1.22.0.zip PackageFileSize: 1.821 MiB