Package: BiocNeighbors Version: 1.22.0 Command: /Library/Frameworks/R.framework/Resources/bin/R CMD check --install=check:BiocNeighbors.install-out.txt --library=/Library/Frameworks/R.framework/Resources/library --no-vignettes --timings BiocNeighbors_1.22.0.tar.gz StartedAt: 2024-10-17 13:53:36 -0400 (Thu, 17 Oct 2024) EndedAt: 2024-10-17 13:59:16 -0400 (Thu, 17 Oct 2024) EllapsedTime: 339.7 seconds RetCode: 0 Status: WARNINGS CheckDir: BiocNeighbors.Rcheck Warnings: 2