Package: BiocIO Version: 1.14.0 Command: rm -rf BiocIO.buildbin-libdir && mkdir BiocIO.buildbin-libdir && /Users/biocbuild/BBS/utils/build-universal.sh BiocIO_1.14.0.tar.gz /Library/Frameworks/R.framework/Resources/bin/R BiocIO.buildbin-libdir StartedAt: 2024-10-17 15:42:55 -0400 (Thu, 17 Oct 2024) EndedAt: 2024-10-17 15:43:08 -0400 (Thu, 17 Oct 2024) EllapsedTime: 13.1 seconds RetCode: 0 Status: OK PackageFile: BiocIO_1.14.0.tgz PackageFileSize: 413.5 KiB