Package: BiocIO Version: 1.14.0 Command: /home/biocbuild/R/R-beta-2024-04-15_r86425/bin/R CMD check --install=check:BiocIO.install-out.txt --library=/home/biocbuild/R/R-beta-2024-04-15_r86425/site-library --no-vignettes --timings BiocIO_1.14.0.tar.gz StartedAt: 2024-05-09 05:11:57 -0000 (Thu, 09 May 2024) EndedAt: 2024-05-09 05:13:53 -0000 (Thu, 09 May 2024) EllapsedTime: 116.2 seconds RetCode: 0 Status: OK CheckDir: BiocIO.Rcheck Warnings: 0