Package: BiocIO Version: 1.14.0 Command: /Library/Frameworks/R.framework/Resources/bin/R CMD build --keep-empty-dirs --no-resave-data BiocIO StartedAt: 2024-10-16 20:17:27 -0400 (Wed, 16 Oct 2024) EndedAt: 2024-10-16 20:17:38 -0400 (Wed, 16 Oct 2024) EllapsedTime: 11.3 seconds RetCode: 0 Status: OK PackageFile: BiocIO_1.14.0.tar.gz PackageFileSize: 225.9 KiB