Package: BiocHubsShiny Version: 1.4.0 Command: /Library/Frameworks/R.framework/Resources/bin/R CMD build --keep-empty-dirs --no-resave-data BiocHubsShiny StartedAt: 2024-10-16 17:25:40 -0400 (Wed, 16 Oct 2024) EndedAt: 2024-10-16 17:26:33 -0400 (Wed, 16 Oct 2024) EllapsedTime: 53.6 seconds RetCode: 0 Status: OK PackageFile: BiocHubsShiny_1.4.0.tar.gz PackageFileSize: 1.602 MiB