Package: BiocHubsShiny Version: 1.4.0 Command: rm -rf BiocHubsShiny.buildbin-libdir && mkdir BiocHubsShiny.buildbin-libdir && /Users/biocbuild/BBS/utils/build-universal.sh BiocHubsShiny_1.4.0.tar.gz /Library/Frameworks/R.framework/Resources/bin/R BiocHubsShiny.buildbin-libdir StartedAt: 2024-10-17 15:42:49 -0400 (Thu, 17 Oct 2024) EndedAt: 2024-10-17 15:43:28 -0400 (Thu, 17 Oct 2024) EllapsedTime: 38.6 seconds RetCode: 0 Status: OK PackageFile: BiocHubsShiny_1.4.0.tgz PackageFileSize: 740.1 KiB