Package: BiocHail Version: 1.4.0 Command: /home/biocbuild/bbs-3.19-bioc/R/bin/R CMD check --install=check:BiocHail.install-out.txt --library=/home/biocbuild/bbs-3.19-bioc/R/site-library --timings BiocHail_1.4.0.tar.gz StartedAt: 2024-10-16 22:03:24 -0400 (Wed, 16 Oct 2024) EndedAt: 2024-10-16 22:08:35 -0400 (Wed, 16 Oct 2024) EllapsedTime: 311.7 seconds RetCode: 0 Status: OK CheckDir: BiocHail.Rcheck Warnings: 0