Package: BiocGenerics Version: 0.50.0 Command: rm -rf BiocGenerics.buildbin-libdir && mkdir BiocGenerics.buildbin-libdir && F:\biocbuild\bbs-3.19-bioc\R\bin\R.exe CMD INSTALL --build --library=BiocGenerics.buildbin-libdir BiocGenerics_0.50.0.tar.gz StartedAt: 2024-06-27 07:53:33 -0400 (Thu, 27 Jun 2024) EndedAt: 2024-06-27 07:54:07 -0400 (Thu, 27 Jun 2024) EllapsedTime: 34.1 seconds RetCode: 0 Status: OK PackageFile: BiocGenerics_0.50.0.zip PackageFileSize: 606 KiB