Package: BiocGenerics Version: 0.50.0 Command: /home/biocbuild/bbs-3.19-bioc/R/bin/R CMD INSTALL BiocGenerics StartedAt: 2024-10-16 15:49:15 -0400 (Wed, 16 Oct 2024) EndedAt: 2024-10-16 15:49:20 -0400 (Wed, 16 Oct 2024) EllapsedTime: 4.6 seconds RetCode: 0 Status: OK