Package: BiocGenerics Version: 0.50.0 Command: /Library/Frameworks/R.framework/Resources/bin/R CMD check --install=check:BiocGenerics.install-out.txt --library=/Library/Frameworks/R.framework/Resources/library --no-vignettes --timings BiocGenerics_0.50.0.tar.gz StartedAt: 2024-10-17 01:42:51 -0400 (Thu, 17 Oct 2024) EndedAt: 2024-10-17 01:44:57 -0400 (Thu, 17 Oct 2024) EllapsedTime: 126.0 seconds RetCode: 0 Status: WARNINGS CheckDir: BiocGenerics.Rcheck Warnings: 2