Package: BiocGenerics Version: 0.50.0 Command: rm -rf BiocGenerics.buildbin-libdir && mkdir BiocGenerics.buildbin-libdir && /Users/biocbuild/BBS/utils/build-universal.sh BiocGenerics_0.50.0.tar.gz /Library/Frameworks/R.framework/Resources/bin/R BiocGenerics.buildbin-libdir StartedAt: 2024-10-17 15:42:48 -0400 (Thu, 17 Oct 2024) EndedAt: 2024-10-17 15:43:02 -0400 (Thu, 17 Oct 2024) EllapsedTime: 13.8 seconds RetCode: 0 Status: OK PackageFile: BiocGenerics_0.50.0.tgz PackageFileSize: 587.6 KiB