Package: BiocGenerics Version: 0.50.0 Command: /home/biocbuild/R/R-beta-2024-04-15_r86425/bin/R CMD check --install=check:BiocGenerics.install-out.txt --library=/home/biocbuild/R/R-beta-2024-04-15_r86425/site-library --no-vignettes --timings BiocGenerics_0.50.0.tar.gz StartedAt: 2024-05-09 05:11:12 -0000 (Thu, 09 May 2024) EndedAt: 2024-05-09 05:12:09 -0000 (Thu, 09 May 2024) EllapsedTime: 57.1 seconds RetCode: 0 Status: WARNINGS CheckDir: BiocGenerics.Rcheck Warnings: 2