Package: BiocFileCache Version: 2.12.0 Command: chmod a+r BiocFileCache -R && E:\biocbuild\bbs-3.19-bioc\R\bin\R.exe CMD build --keep-empty-dirs --no-resave-data BiocFileCache StartedAt: 2024-10-16 17:49:30 -0400 (Wed, 16 Oct 2024) EndedAt: 2024-10-16 17:51:19 -0400 (Wed, 16 Oct 2024) EllapsedTime: 108.9 seconds RetCode: 0 Status: OK PackageFile: BiocFileCache_2.12.0.tar.gz PackageFileSize: 293.3 KiB