Package: BiocFileCache Version: 2.12.0 Command: rm -rf BiocFileCache.buildbin-libdir && mkdir BiocFileCache.buildbin-libdir && E:\biocbuild\bbs-3.19-bioc\R\bin\R.exe CMD INSTALL --build --library=BiocFileCache.buildbin-libdir BiocFileCache_2.12.0.tar.gz StartedAt: 2024-10-17 07:24:20 -0400 (Thu, 17 Oct 2024) EndedAt: 2024-10-17 07:25:58 -0400 (Thu, 17 Oct 2024) EllapsedTime: 97.6 seconds RetCode: 0 Status: OK PackageFile: BiocFileCache_2.12.0.zip PackageFileSize: 524.3 KiB