Package: BiocFileCache Version: 2.12.0 Command: chmod a+r BiocFileCache -R && F:\biocbuild\bbs-3.19-bioc\R\bin\R.exe CMD build --keep-empty-dirs --no-resave-data BiocFileCache StartedAt: 2024-06-26 17:23:41 -0400 (Wed, 26 Jun 2024) EndedAt: 2024-06-26 17:25:22 -0400 (Wed, 26 Jun 2024) EllapsedTime: 101.6 seconds RetCode: 0 Status: OK PackageFile: BiocFileCache_2.12.0.tar.gz PackageFileSize: 293.3 KiB