Package: BiocFileCache Version: 2.12.0 Command: /home/biocbuild/bbs-3.19-bioc/R/bin/R CMD check --install=check:BiocFileCache.install-out.txt --library=/home/biocbuild/bbs-3.19-bioc/R/site-library --timings BiocFileCache_2.12.0.tar.gz StartedAt: 2024-10-16 22:02:40 -0400 (Wed, 16 Oct 2024) EndedAt: 2024-10-16 22:10:18 -0400 (Wed, 16 Oct 2024) EllapsedTime: 458.0 seconds RetCode: 0 Status: OK CheckDir: BiocFileCache.Rcheck Warnings: 0