Package: BiocFileCache Version: 2.12.0 Command: /home/biocbuild/bbs-3.19-bioc/R/bin/R CMD build --keep-empty-dirs --no-resave-data BiocFileCache StartedAt: 2024-10-16 17:12:00 -0400 (Wed, 16 Oct 2024) EndedAt: 2024-10-16 17:18:28 -0400 (Wed, 16 Oct 2024) EllapsedTime: 388.7 seconds RetCode: 0 Status: OK PackageFile: BiocFileCache_2.12.0.tar.gz PackageFileSize: 292.5 KiB