Package: BiocFileCache Version: 2.12.0 Command: /Library/Frameworks/R.framework/Resources/bin/R CMD build --keep-empty-dirs --no-resave-data BiocFileCache StartedAt: 2024-10-16 17:25:14 -0400 (Wed, 16 Oct 2024) EndedAt: 2024-10-16 17:26:13 -0400 (Wed, 16 Oct 2024) EllapsedTime: 59.4 seconds RetCode: 1 Status: ERROR PackageFile: None PackageFileSize: NA