Package: BiocFileCache Version: 2.12.0 Command: /Library/Frameworks/R.framework/Resources/bin/R CMD check --install=check:BiocFileCache.install-out.txt --library=/Library/Frameworks/R.framework/Resources/library --no-vignettes --timings BiocFileCache_2.12.0.tar.gz StartedAt: 2024-06-10 08:40:50 -0400 (Mon, 10 Jun 2024) EndedAt: 2024-06-10 08:43:01 -0400 (Mon, 10 Jun 2024) EllapsedTime: 131.2 seconds RetCode: 0 Status: OK CheckDir: BiocFileCache.Rcheck Warnings: 0