Package: BiocFileCache Version: 2.12.0 Command: rm -rf BiocFileCache.buildbin-libdir && mkdir BiocFileCache.buildbin-libdir && /Users/biocbuild/BBS/utils/build-universal.sh BiocFileCache_2.12.0.tar.gz /Library/Frameworks/R.framework/Resources/bin/R BiocFileCache.buildbin-libdir StartedAt: 2024-06-11 10:18:33 -0400 (Tue, 11 Jun 2024) EndedAt: 2024-06-11 10:18:51 -0400 (Tue, 11 Jun 2024) EllapsedTime: 17.6 seconds RetCode: 0 Status: OK PackageFile: BiocFileCache_2.12.0.tgz PackageFileSize: 521.6 KiB