Package: BiocFileCache Version: 2.12.0 Command: rm -rf BiocFileCache.buildbin-libdir && mkdir BiocFileCache.buildbin-libdir && /Users/biocbuild/BBS/utils/build-universal.sh BiocFileCache_2.12.0.tar.gz /Library/Frameworks/R.framework/Resources/bin/R BiocFileCache.buildbin-libdir StartedAt: 2024-10-18 17:29:34 -0400 (Fri, 18 Oct 2024) EndedAt: 2024-10-18 17:29:46 -0400 (Fri, 18 Oct 2024) EllapsedTime: 11.9 seconds RetCode: 0 Status: OK PackageFile: BiocFileCache_2.12.0.tgz PackageFileSize: 521.6 KiB