Package: BiocFHIR Version: 1.6.0 Command: E:\biocbuild\bbs-3.19-bioc\R\bin\R.exe CMD INSTALL BiocFHIR StartedAt: 2024-10-16 16:40:21 -0400 (Wed, 16 Oct 2024) EndedAt: 2024-10-16 16:40:38 -0400 (Wed, 16 Oct 2024) EllapsedTime: 17.2 seconds RetCode: 0 Status: OK