Package: BiocFHIR Version: 1.6.0 Command: chmod a+r BiocFHIR -R && E:\biocbuild\bbs-3.19-bioc\R\bin\R.exe CMD build --keep-empty-dirs --no-resave-data BiocFHIR StartedAt: 2024-10-16 17:49:25 -0400 (Wed, 16 Oct 2024) EndedAt: 2024-10-16 17:50:26 -0400 (Wed, 16 Oct 2024) EllapsedTime: 60.8 seconds RetCode: 0 Status: OK PackageFile: BiocFHIR_1.6.0.tar.gz PackageFileSize: 4.291 MiB