Package: BiocFHIR Version: 1.6.0 Command: chmod a+r BiocFHIR -R && F:\biocbuild\bbs-3.19-bioc\R\bin\R.exe CMD build --keep-empty-dirs --no-resave-data BiocFHIR StartedAt: 2024-06-26 17:23:39 -0400 (Wed, 26 Jun 2024) EndedAt: 2024-06-26 17:24:36 -0400 (Wed, 26 Jun 2024) EllapsedTime: 57.2 seconds RetCode: 0 Status: OK PackageFile: BiocFHIR_1.6.0.tar.gz PackageFileSize: 4.291 MiB